BEGIN:VCALENDAR
VERSION:2.0
PRODID:-//Tukios.com/
BEGIN:VEVENT
UID:efe1cb0f-6d31-4e95-a912-d7c50e08c287@www.christysmith.com
DTSTAMP:20260423T235431Z
DTSTART:20260429T180000Z
DTEND:20260429T190000Z
SUMMARY:Visitation
DESCRIPTION:
URL:https://www.christysmith.com/obituaries/paul-poskevich-jr
LOCATION: 1801 Morningside Ave  Sioux City IA 51106
GEO:42.472112;-96.3570424
END:VEVENT
END:VCALENDAR