BEGIN:VCALENDAR
VERSION:2.0
PRODID:-//Tukios.com/
BEGIN:VEVENT
UID:8bbb08a9-4295-47a4-b18e-232bca70bacb@www.christysmith.com
DTSTAMP:20260423T215929Z
DTSTART:20260502T190000Z
DTEND:20260502T200000Z
SUMMARY:Burial
DESCRIPTION:
URL:https://www.christysmith.com/obituaries/gloria-cunningham
LOCATION: 6605 Morningside Avenue  Sioux City IA 51106
GEO:42.453649;-96.324195
END:VEVENT
END:VCALENDAR