BEGIN:VCALENDAR
VERSION:2.0
PRODID:-//Tukios.com/
BEGIN:VEVENT
UID:7a762326-66bd-4954-a5ab-535a5c3d80f9@www.christysmith.com
DTSTAMP:20260423T220017Z
DTSTART:20260502T180000Z
DTEND:20260502T190000Z
SUMMARY:Funeral Service
DESCRIPTION:
URL:https://www.christysmith.com/obituaries/gloria-cunningham
LOCATION: 1801 Morningside Ave  Sioux City IA 51106
GEO:42.472112;-96.3570424
END:VEVENT
END:VCALENDAR