BEGIN:VCALENDAR
VERSION:2.0
PRODID:-//Tukios.com/
BEGIN:VEVENT
UID:f9536bba-4516-42d1-9d56-4a0100893349@www.christysmith.com
DTSTAMP:20260423T220114Z
DTSTART:20260502T170000Z
DTEND:20260502T180000Z
SUMMARY:Visitation
DESCRIPTION:
URL:https://www.christysmith.com/obituaries/gloria-cunningham
LOCATION: 1801 Morningside Ave  Sioux City IA 51106
GEO:42.472112;-96.3570424
END:VEVENT
END:VCALENDAR