BEGIN:VCALENDAR
VERSION:2.0
PRODID:-//Tukios.com/
BEGIN:VEVENT
UID:553edbd7-a392-4ae5-bab6-8ca17f797de2@www.christysmith.com
DTSTAMP:20260422T002743Z
DTSTART:20260424T190000Z
DTEND:20260424T193000Z
SUMMARY:Burial
DESCRIPTION:
URL:https://www.christysmith.com/obituaries/eugene-beach-jr
LOCATION: 6605 Morningside Avenue  Sioux City IA 51106
GEO:42.453649;-96.324195
END:VEVENT
END:VCALENDAR