BEGIN:VCALENDAR
VERSION:2.0
PRODID:-//Tukios.com/
BEGIN:VEVENT
UID:5ea9f3d2-4118-4674-b8e3-12d51375277a@www.christysmith.com
DTSTAMP:20260422T003043Z
DTSTART:20260429T160000Z
DTEND:20260429T170000Z
SUMMARY:Burial
DESCRIPTION:
URL:https://www.christysmith.com/obituaries/delores-steele
LOCATION: 2802 Casselman Street  Sioux City IA 51103
GEO:42.5223712;-96.4413326
END:VEVENT
END:VCALENDAR