BEGIN:VCALENDAR
VERSION:2.0
PRODID:-//Tukios.com/
BEGIN:VEVENT
UID:eb95ed75-5fc2-4c5a-aac4-3075c46b3822@www.christysmith.com
DTSTAMP:20260422T003053Z
DTSTART:20260429T150000Z
DTEND:20260429T160000Z
SUMMARY:Mass
DESCRIPTION:
URL:https://www.christysmith.com/obituaries/delores-steele
LOCATION: 1112 8th Street  Sioux City IA 51105
GEO:42.4983536;-96.3953833
END:VEVENT
END:VCALENDAR