BEGIN:VCALENDAR
VERSION:2.0
PRODID:-//Tukios.com/
BEGIN:VEVENT
UID:7b03f22b-c413-478a-917a-5574604184be@www.christysmith.com
DTSTAMP:20260422T003053Z
DTSTART:20260429T000000Z
DTEND:20260429T003000Z
SUMMARY:Prayer Service
DESCRIPTION:
URL:https://www.christysmith.com/obituaries/delores-steele
LOCATION: 2320 Outer Dr N  Sioux City IA 51104
GEO:42.5394919;-96.3796939
END:VEVENT
END:VCALENDAR