BEGIN:VCALENDAR
VERSION:2.0
PRODID:-//Tukios.com/
BEGIN:VEVENT
UID:935d3fea-eb8d-4437-a6c7-f4346b839013@www.christysmith.com
DTSTAMP:20260422T002755Z
DTSTART:20260428T220000Z
DTEND:20260429T000000Z
SUMMARY:Visitation
DESCRIPTION:
URL:https://www.christysmith.com/obituaries/delores-steele
LOCATION: 2320 Outer Dr N  Sioux City IA 51104
GEO:42.5394919;-96.3796939
END:VEVENT
END:VCALENDAR