BEGIN:VCALENDAR
VERSION:2.0
PRODID:-//Tukios.com/
BEGIN:VEVENT
UID:7c1b855f-2eee-4dc4-b114-2b9fc598a589@www.christysmith.com
DTSTAMP:20260420T213535Z
DTSTART:20260424T160000Z
DTEND:20260424T170000Z
SUMMARY:Funeral Service
DESCRIPTION:
URL:https://www.christysmith.com/obituaries/adeline-silliman
LOCATION: 3204 South Lakeport Street  Sioux City IA 51106
GEO:42.452743;-96.3429401
END:VEVENT
END:VCALENDAR