BEGIN:VCALENDAR
VERSION:2.0
PRODID:-//Tukios.com/
BEGIN:VEVENT
UID:ae83c0e5-0774-4ace-9ac6-ffd09a84eb76@www.christysmith.com
DTSTAMP:20260420T213913Z
DTSTART:20260424T000000Z
DTEND:20260424T010000Z
SUMMARY:Prayer Service
DESCRIPTION:
URL:https://www.christysmith.com/obituaries/adeline-silliman
LOCATION: 1801 Morningside Ave  Sioux City IA 51106
GEO:42.472112;-96.3570424
END:VEVENT
END:VCALENDAR