BEGIN:VCALENDAR
VERSION:2.0
PRODID:-//Tukios.com/
BEGIN:VEVENT
UID:7d6f1049-862e-42fb-bd8b-d2ff9a1639ee@www.christysmith.com
DTSTAMP:20260420T213938Z
DTSTART:20260423T220000Z
DTEND:20260424T010000Z
SUMMARY:Visitation
DESCRIPTION:
URL:https://www.christysmith.com/obituaries/adeline-silliman
LOCATION: 1801 Morningside Ave  Sioux City IA 51106
GEO:42.472112;-96.3570424
END:VEVENT
END:VCALENDAR